BEGIN:VCALENDAR
VERSION:2.0
PRODID:-//Regional Food Bank of Northeastern New York - ECPv6.15.18//NONSGML v1.0//EN
CALSCALE:GREGORIAN
METHOD:PUBLISH
X-WR-CALNAME:Regional Food Bank of Northeastern New York
X-ORIGINAL-URL:https://regionalfoodbank.net
X-WR-CALDESC:Events for Regional Food Bank of Northeastern New York
REFRESH-INTERVAL;VALUE=DURATION:PT1H
X-Robots-Tag:noindex
X-PUBLISHED-TTL:PT1H
BEGIN:VTIMEZONE
TZID:America/New_York
BEGIN:DAYLIGHT
TZOFFSETFROM:-0500
TZOFFSETTO:-0400
TZNAME:EDT
DTSTART:20250309T070000
END:DAYLIGHT
BEGIN:STANDARD
TZOFFSETFROM:-0400
TZOFFSETTO:-0500
TZNAME:EST
DTSTART:20251102T060000
END:STANDARD
BEGIN:DAYLIGHT
TZOFFSETFROM:-0500
TZOFFSETTO:-0400
TZNAME:EDT
DTSTART:20260308T070000
END:DAYLIGHT
BEGIN:STANDARD
TZOFFSETFROM:-0400
TZOFFSETTO:-0500
TZNAME:EST
DTSTART:20261101T060000
END:STANDARD
BEGIN:DAYLIGHT
TZOFFSETFROM:-0500
TZOFFSETTO:-0400
TZNAME:EDT
DTSTART:20270314T070000
END:DAYLIGHT
BEGIN:STANDARD
TZOFFSETFROM:-0400
TZOFFSETTO:-0500
TZNAME:EST
DTSTART:20271107T060000
END:STANDARD
END:VTIMEZONE
BEGIN:VEVENT
DTSTART;TZID=America/New_York:20260727T090000
DTEND;TZID=America/New_York:20260727T090000
DTSTAMP:20260424T062331
CREATED:20251229T203108Z
LAST-MODIFIED:20251229T203108Z
UID:23133-1785142800-1785142800@regionalfoodbank.net
SUMMARY:Gloversville Transit Station - Fulton County
DESCRIPTION:Distribution will take place until all food is handed out.
URL:https://regionalfoodbank.net/calendar/gloversville-transit-station-fulton-county-36/
LOCATION:Gloversville Transit Station\, 109 W Fulton St.\, Gloversville\, NY\, 12087\, United States
CATEGORIES:Drive-Thru
END:VEVENT
BEGIN:VEVENT
DTSTART;TZID=America/New_York:20260731T110000
DTEND;TZID=America/New_York:20260731T110000
DTSTAMP:20260424T062331
CREATED:20260415T132249Z
LAST-MODIFIED:20260415T132249Z
UID:23815-1785495600-1785495600@regionalfoodbank.net
SUMMARY:Delaware Opportunities - Delaware County
DESCRIPTION:Distribution will take place until all food is handed out.
URL:https://regionalfoodbank.net/calendar/delaware-opportunities-delaware-county-28/
LOCATION:Delaware Opportunities\, 35430 NY-10\, Hamden\, NY\, 13782
CATEGORIES:Drive-Thru
END:VEVENT
BEGIN:VEVENT
DTSTART;TZID=America/New_York:20260801T090000
DTEND;TZID=America/New_York:20260801T090000
DTSTAMP:20260424T062331
CREATED:20251229T182233Z
LAST-MODIFIED:20251229T182233Z
UID:23079-1785574800-1785574800@regionalfoodbank.net
SUMMARY:Davenport Town Hall - Delaware County
DESCRIPTION:Distribution will take place until all food is handed out.
URL:https://regionalfoodbank.net/calendar/davenport-town-hall-delaware-county-14/
LOCATION:Davenport Town Hall\, 11848 State Rte. 23\, Davenport Center\, NY\, 13751\, United States
CATEGORIES:Drive-Thru
END:VEVENT
BEGIN:VEVENT
DTSTART;TZID=America/New_York:20260803T083000
DTEND;TZID=America/New_York:20260803T083000
DTSTAMP:20260424T062331
CREATED:20260415T131300Z
LAST-MODIFIED:20260415T131300Z
UID:23809-1785745800-1785745800@regionalfoodbank.net
SUMMARY:Warren-Hamilton Counties Community Action - Warren County
DESCRIPTION:Distribution will take place until all food is handed out.
URL:https://regionalfoodbank.net/calendar/warren-hamilton-counties-community-action-warren-county-4/
LOCATION:Warren-Hamilton Counties Community Action\, 190 Maple Street\, Glens Falls\, New York\, 12801
CATEGORIES:Drive-Thru
END:VEVENT
BEGIN:VEVENT
DTSTART;TZID=America/New_York:20260806T080000
DTEND;TZID=America/New_York:20260806T080000
DTSTAMP:20260424T062331
CREATED:20260415T133221Z
LAST-MODIFIED:20260415T133221Z
UID:23821-1786003200-1786003200@regionalfoodbank.net
SUMMARY:Catholic Charities - Montgomery County
DESCRIPTION:Distribution will take place until all food is handed out.
URL:https://regionalfoodbank.net/calendar/catholic-charities-montgomery-county-8/
LOCATION:Catholic Charities Montgomery County\, 1 Kimball Street\, Amsterdam\, NY\, 12010
CATEGORIES:Drive-Thru
END:VEVENT
BEGIN:VEVENT
DTSTART;TZID=America/New_York:20260808T130000
DTEND;TZID=America/New_York:20260808T130000
DTSTAMP:20260424T062331
CREATED:20260327T132005Z
LAST-MODIFIED:20260415T181538Z
UID:23706-1786194000-1786194000@regionalfoodbank.net
SUMMARY:Walls Temple AME Zion Church - Albany County
DESCRIPTION:Distribution will take place until all food is handed out.
URL:https://regionalfoodbank.net/calendar/walls-temple-ame-zion-church-albany-county-5/
LOCATION:Walls Temple AME Zion Church\, 27 Delaware Street\, Albany\, NY\, 12202\, United States
CATEGORIES:Drive-Thru
END:VEVENT
BEGIN:VEVENT
DTSTART;TZID=America/New_York:20260812T080000
DTEND;TZID=America/New_York:20260812T080000
DTSTAMP:20260424T062331
CREATED:20260415T135453Z
LAST-MODIFIED:20260415T135453Z
UID:23842-1786521600-1786521600@regionalfoodbank.net
SUMMARY:The Salvation Army (Albany) - Albany County
DESCRIPTION:Distribution will take place until all food is handed out.
URL:https://regionalfoodbank.net/calendar/the-salvation-army-albany-albany-county-5/
LOCATION:Salvation Army Albany\, 20 S Ferry Street\, Albany\, NY\, 12202
CATEGORIES:Drive-Thru
END:VEVENT
BEGIN:VEVENT
DTSTART;TZID=America/New_York:20260814T120000
DTEND;TZID=America/New_York:20260814T120000
DTSTAMP:20260424T062331
CREATED:20260415T124924Z
LAST-MODIFIED:20260415T124924Z
UID:23793-1786708800-1786708800@regionalfoodbank.net
SUMMARY:Ulster County Community Action – Ulster County
DESCRIPTION:Distribution will take place until all food is handed out.
URL:https://regionalfoodbank.net/calendar/ulster-county-community-action-ulster-county-4/
LOCATION:Ulster County Community Action\, Kingston\, 70 Lindsley Ave.\, Kingston\, NY\, 12401\, United States
CATEGORIES:Drive-Thru
END:VEVENT
BEGIN:VEVENT
DTSTART;TZID=America/New_York:20260815T083000
DTEND;TZID=America/New_York:20260815T083000
DTSTAMP:20260424T062331
CREATED:20251229T200807Z
LAST-MODIFIED:20251229T200807Z
UID:23115-1786782600-1786782600@regionalfoodbank.net
SUMMARY:Van Rensselaer Elementary School - Rensselaer County
DESCRIPTION:In partnership with New Hope Church. \nDistribution will take place until all food is handed out.
URL:https://regionalfoodbank.net/calendar/van-rensselaer-elementary-school-rensselaer-county-13/
LOCATION:Van Rensselaer Elementary School\, 25 Van Rensselaer Dr.\, Rensselaer\, NY\, 12144\, United States
CATEGORIES:Drive-Thru
END:VEVENT
BEGIN:VEVENT
DTSTART;TZID=America/New_York:20260815T100000
DTEND;TZID=America/New_York:20260815T100000
DTSTAMP:20260424T062331
CREATED:20251229T180410Z
LAST-MODIFIED:20251229T180410Z
UID:23067-1786788000-1786788000@regionalfoodbank.net
SUMMARY:Macedonia Baptist Church - Albany County
DESCRIPTION:Distribution will take place until all food is handed out.
URL:https://regionalfoodbank.net/calendar/macedonia-baptist-church-albany-county-46/
LOCATION:Macedonia Baptist\, 26 Wilson Ave\, Albany\, NY
CATEGORIES:Drive-Thru
END:VEVENT
BEGIN:VEVENT
DTSTART;TZID=America/New_York:20260817T093000
DTEND;TZID=America/New_York:20260817T093000
DTSTAMP:20260424T062331
CREATED:20251229T183732Z
LAST-MODIFIED:20260415T142653Z
UID:23091-1786959000-1786959000@regionalfoodbank.net
SUMMARY:Lansingburgh Boys and Girls Club - Rensselaer County
DESCRIPTION:Distribution will take place until all food is handed out.
URL:https://regionalfoodbank.net/calendar/lansingburgh-boys-and-girls-club-rensselaer-county-23/
LOCATION:Lansingburgh Boys and Girls Club\, 501 4th Ave\, Troy\, NY\, 12182
CATEGORIES:Drive-Thru
END:VEVENT
BEGIN:VEVENT
DTSTART;TZID=America/New_York:20260819T080000
DTEND;TZID=America/New_York:20260819T080000
DTSTAMP:20260424T062331
CREATED:20260415T134623Z
LAST-MODIFIED:20260415T182556Z
UID:23835-1787126400-1787126400@regionalfoodbank.net
SUMMARY:Trinity Alliance Arbor Hill Center - Albany County
DESCRIPTION:Distribution will take place until all food is handed out.
URL:https://regionalfoodbank.net/calendar/trinity-alliance-arbor-hill-center-albany-county-4/
LOCATION:Trinity Alliance Arbor Hill Center\, 47 Lark Street\, Albany\, New York\, 12210
CATEGORIES:Drive-Thru
END:VEVENT
BEGIN:VEVENT
DTSTART;TZID=America/New_York:20260819T140000
DTEND;TZID=America/New_York:20260819T140000
DTSTAMP:20260424T062331
CREATED:20251229T184947Z
LAST-MODIFIED:20260312T165042Z
UID:23103-1787148000-1787148000@regionalfoodbank.net
SUMMARY:Salvation Army (Glens Falls) - Warren County
DESCRIPTION:Distribution will take place until all food is handed out.
URL:https://regionalfoodbank.net/calendar/salvation-army-glens-falls-warren-county-9/
LOCATION:East Field Stadium\, 175 Dix Ave\, Glens Falls\, NY
CATEGORIES:Drive-Thru
END:VEVENT
BEGIN:VEVENT
DTSTART;TZID=America/New_York:20260824T090000
DTEND;TZID=America/New_York:20260824T090000
DTSTAMP:20260424T062331
CREATED:20251229T203256Z
LAST-MODIFIED:20251229T203256Z
UID:23135-1787562000-1787562000@regionalfoodbank.net
SUMMARY:Gloversville Transit Station - Fulton County
DESCRIPTION:Distribution will take place until all food is handed out.
URL:https://regionalfoodbank.net/calendar/gloversville-transit-station-fulton-county-38/
LOCATION:Gloversville Transit Station\, 109 W Fulton St.\, Gloversville\, NY\, 12087\, United States
CATEGORIES:Drive-Thru
END:VEVENT
BEGIN:VEVENT
DTSTART;TZID=America/New_York:20260827T090000
DTEND;TZID=America/New_York:20260827T090000
DTSTAMP:20260424T062331
CREATED:20260415T133848Z
LAST-MODIFIED:20260415T133848Z
UID:23828-1787821200-1787821200@regionalfoodbank.net
SUMMARY:Sicm Food Program - Schenectady County
DESCRIPTION:Distribution will take place until all food is handed out.
URL:https://regionalfoodbank.net/calendar/sicm-food-program-schenectady-county-4/
LOCATION:Sycamore Collaborative Food Pantry\, 839 Albany Street\, Schenectady\, New York\, 12307
CATEGORIES:Drive-Thru
END:VEVENT
BEGIN:VEVENT
DTSTART;TZID=America/New_York:20260828T110000
DTEND;TZID=America/New_York:20260828T110000
DTSTAMP:20260424T062331
CREATED:20260415T132347Z
LAST-MODIFIED:20260415T132347Z
UID:23816-1787914800-1787914800@regionalfoodbank.net
SUMMARY:Delaware Opportunities - Delaware County
DESCRIPTION:Distribution will take place until all food is handed out.
URL:https://regionalfoodbank.net/calendar/delaware-opportunities-delaware-county-29/
LOCATION:Delaware Opportunities\, 35430 NY-10\, Hamden\, NY\, 13782
CATEGORIES:Drive-Thru
END:VEVENT
BEGIN:VEVENT
DTSTART;TZID=America/New_York:20260903T080000
DTEND;TZID=America/New_York:20260903T080000
DTSTAMP:20260424T062331
CREATED:20260415T133307Z
LAST-MODIFIED:20260415T133307Z
UID:23822-1788422400-1788422400@regionalfoodbank.net
SUMMARY:Catholic Charities - Montgomery County
DESCRIPTION:Distribution will take place until all food is handed out.
URL:https://regionalfoodbank.net/calendar/catholic-charities-montgomery-county-9/
LOCATION:Catholic Charities Montgomery County\, 1 Kimball Street\, Amsterdam\, NY\, 12010
CATEGORIES:Drive-Thru
END:VEVENT
BEGIN:VEVENT
DTSTART;TZID=America/New_York:20260905T090000
DTEND;TZID=America/New_York:20260905T090000
DTSTAMP:20260424T062331
CREATED:20251229T182431Z
LAST-MODIFIED:20251229T182431Z
UID:23080-1788598800-1788598800@regionalfoodbank.net
SUMMARY:Davenport Town Hall - Delaware County
DESCRIPTION:Distribution will take place until all food is handed out.
URL:https://regionalfoodbank.net/calendar/davenport-town-hall-delaware-county-15/
LOCATION:Davenport Town Hall\, 11848 State Rte. 23\, Davenport Center\, NY\, 13751\, United States
CATEGORIES:Drive-Thru
END:VEVENT
BEGIN:VEVENT
DTSTART;TZID=America/New_York:20260905T130000
DTEND;TZID=America/New_York:20260905T130000
DTSTAMP:20260424T062331
CREATED:20260327T132054Z
LAST-MODIFIED:20260415T181627Z
UID:23707-1788613200-1788613200@regionalfoodbank.net
SUMMARY:Walls Temple AME Zion Church - Albany County
DESCRIPTION:Distribution will take place until all food is handed out.
URL:https://regionalfoodbank.net/calendar/walls-temple-ame-zion-church-albany-county-6/
LOCATION:Walls Temple AME Zion Church\, 27 Delaware Street\, Albany\, NY\, 12202\, United States
CATEGORIES:Drive-Thru
END:VEVENT
BEGIN:VEVENT
DTSTART;TZID=America/New_York:20260907T083000
DTEND;TZID=America/New_York:20260907T083000
DTSTAMP:20260424T062331
CREATED:20260415T131435Z
LAST-MODIFIED:20260415T131435Z
UID:23810-1788769800-1788769800@regionalfoodbank.net
SUMMARY:Warren-Hamilton Counties Community Action - Warren County
DESCRIPTION:Distribution will take place until all food is handed out.
URL:https://regionalfoodbank.net/calendar/warren-hamilton-counties-community-action-warren-county-5/
LOCATION:Warren-Hamilton Counties Community Action\, 190 Maple Street\, Glens Falls\, New York\, 12801
CATEGORIES:Drive-Thru
END:VEVENT
BEGIN:VEVENT
DTSTART;TZID=America/New_York:20260909T080000
DTEND;TZID=America/New_York:20260909T080000
DTSTAMP:20260424T062331
CREATED:20260415T135526Z
LAST-MODIFIED:20260415T135526Z
UID:23843-1788940800-1788940800@regionalfoodbank.net
SUMMARY:The Salvation Army (Albany) - Albany County
DESCRIPTION:Distribution will take place until all food is handed out.
URL:https://regionalfoodbank.net/calendar/the-salvation-army-albany-albany-county-6/
LOCATION:Salvation Army Albany\, 20 S Ferry Street\, Albany\, NY\, 12202
CATEGORIES:Drive-Thru
END:VEVENT
BEGIN:VEVENT
DTSTART;TZID=America/New_York:20260911T120000
DTEND;TZID=America/New_York:20260911T120000
DTSTAMP:20260424T062331
CREATED:20260415T125019Z
LAST-MODIFIED:20260415T125019Z
UID:23794-1789128000-1789128000@regionalfoodbank.net
SUMMARY:Ulster County Community Action – Ulster County
DESCRIPTION:Distribution will take place until all food is handed out.
URL:https://regionalfoodbank.net/calendar/ulster-county-community-action-ulster-county-5/
LOCATION:Ulster County Community Action\, Kingston\, 70 Lindsley Ave.\, Kingston\, NY\, 12401\, United States
CATEGORIES:Drive-Thru
END:VEVENT
BEGIN:VEVENT
DTSTART;TZID=America/New_York:20260916T080000
DTEND;TZID=America/New_York:20260916T080000
DTSTAMP:20260424T062331
CREATED:20260415T134904Z
LAST-MODIFIED:20260415T182623Z
UID:23837-1789545600-1789545600@regionalfoodbank.net
SUMMARY:Trinity Alliance Arbor Hill Center - Albany County
DESCRIPTION:Distribution will take place until all food is handed out.
URL:https://regionalfoodbank.net/calendar/trinity-alliance-arbor-hill-center-albany-county-6/
LOCATION:Trinity Alliance Arbor Hill Center\, 47 Lark Street\, Albany\, New York\, 12210
CATEGORIES:Drive-Thru
END:VEVENT
BEGIN:VEVENT
DTSTART;TZID=America/New_York:20260916T140000
DTEND;TZID=America/New_York:20260916T140000
DTSTAMP:20260424T062331
CREATED:20251229T185113Z
LAST-MODIFIED:20260312T165122Z
UID:23104-1789567200-1789567200@regionalfoodbank.net
SUMMARY:Salvation Army (Glens Falls) - Warren County
DESCRIPTION:Distribution will take place until all food is handed out.
URL:https://regionalfoodbank.net/calendar/salvation-army-glens-falls-warren-county-10/
LOCATION:East Field Stadium\, 175 Dix Ave\, Glens Falls\, NY
CATEGORIES:Drive-Thru
END:VEVENT
BEGIN:VEVENT
DTSTART;TZID=America/New_York:20260919T083000
DTEND;TZID=America/New_York:20260919T083000
DTSTAMP:20260424T062331
CREATED:20251229T200905Z
LAST-MODIFIED:20251229T200905Z
UID:23116-1789806600-1789806600@regionalfoodbank.net
SUMMARY:Van Rensselaer Elementary School - Rensselaer County
DESCRIPTION:In partnership with New Hope Church. \nDistribution will take place until all food is handed out.
URL:https://regionalfoodbank.net/calendar/van-rensselaer-elementary-school-rensselaer-county-14/
LOCATION:Van Rensselaer Elementary School\, 25 Van Rensselaer Dr.\, Rensselaer\, NY\, 12144\, United States
CATEGORIES:Drive-Thru
END:VEVENT
BEGIN:VEVENT
DTSTART;TZID=America/New_York:20260919T100000
DTEND;TZID=America/New_York:20260919T100000
DTSTAMP:20260424T062331
CREATED:20251229T180504Z
LAST-MODIFIED:20251229T180504Z
UID:23068-1789812000-1789812000@regionalfoodbank.net
SUMMARY:Macedonia Baptist Church - Albany County
DESCRIPTION:Distribution will take place until all food is handed out.
URL:https://regionalfoodbank.net/calendar/macedonia-baptist-church-albany-county-47/
LOCATION:Macedonia Baptist\, 26 Wilson Ave\, Albany\, NY
CATEGORIES:Drive-Thru
END:VEVENT
BEGIN:VEVENT
DTSTART;TZID=America/New_York:20260921T093000
DTEND;TZID=America/New_York:20260921T093000
DTSTAMP:20260424T062331
CREATED:20251229T183837Z
LAST-MODIFIED:20260415T142737Z
UID:23092-1789983000-1789983000@regionalfoodbank.net
SUMMARY:Lansingburgh Boys and Girls Club - Rensselaer County
DESCRIPTION:Distribution will take place until all food is handed out.
URL:https://regionalfoodbank.net/calendar/lansingburgh-boys-and-girls-club-rensselaer-county-24/
LOCATION:Lansingburgh Boys and Girls Club\, 501 4th Ave\, Troy\, NY\, 12182
CATEGORIES:Drive-Thru
END:VEVENT
BEGIN:VEVENT
DTSTART;TZID=America/New_York:20260924T090000
DTEND;TZID=America/New_York:20260924T090000
DTSTAMP:20260424T062331
CREATED:20260415T133933Z
LAST-MODIFIED:20260415T133933Z
UID:23829-1790240400-1790240400@regionalfoodbank.net
SUMMARY:Sicm Food Program - Schenectady County
DESCRIPTION:Distribution will take place until all food is handed out.
URL:https://regionalfoodbank.net/calendar/sicm-food-program-schenectady-county-5/
LOCATION:Sycamore Collaborative Food Pantry\, 839 Albany Street\, Schenectady\, New York\, 12307
CATEGORIES:Drive-Thru
END:VEVENT
BEGIN:VEVENT
DTSTART;TZID=America/New_York:20260925T110000
DTEND;TZID=America/New_York:20260925T110000
DTSTAMP:20260424T062331
CREATED:20260415T132526Z
LAST-MODIFIED:20260415T132526Z
UID:23817-1790334000-1790334000@regionalfoodbank.net
SUMMARY:Delaware Opportunities - Delaware County
DESCRIPTION:Distribution will take place until all food is handed out.
URL:https://regionalfoodbank.net/calendar/delaware-opportunities-delaware-county-30/
LOCATION:Delaware Opportunities\, 35430 NY-10\, Hamden\, NY\, 13782
CATEGORIES:Drive-Thru
END:VEVENT
BEGIN:VEVENT
DTSTART;TZID=America/New_York:20260928T090000
DTEND;TZID=America/New_York:20260928T090000
DTSTAMP:20260424T062331
CREATED:20251229T203444Z
LAST-MODIFIED:20251229T203444Z
UID:23137-1790586000-1790586000@regionalfoodbank.net
SUMMARY:Gloversville Transit Station - Fulton County
DESCRIPTION:Distribution will take place until all food is handed out.
URL:https://regionalfoodbank.net/calendar/gloversville-transit-station-fulton-county-40/
LOCATION:Gloversville Transit Station\, 109 W Fulton St.\, Gloversville\, NY\, 12087\, United States
CATEGORIES:Drive-Thru
END:VEVENT
END:VCALENDAR